BEGIN:VCALENDAR
VERSION:2.0
PRODID:-//wp-events-plugin.com//7.2.3.1//EN
BEGIN:VEVENT
UID:0-190@iwmi.org
DTSTART:20191105T183000Z
DTEND:20191107T183000Z
DTSTAMP:20191030T090923Z
URL:https://www.iwmi.org/events/2nd-international-conference-on-sustainabl
 e-water-managementpune-maharashtra/
SUMMARY:2nd International Conference on Sustainable Water Management\,Pune\
 , Maharashtra
DESCRIPTION:The 2nd International Conference on Sustainable Water Managemen
 t will be held in India from 6–8 November 2019 in Pune\, Maharashtra. AW
 P is providing support to the conference as Country Partner and will be in
  attendance at the event.\n\nThe Conference will provide an interactive pl
 atform for brainstorming and sharing new ideas and case studies with respe
 ct to flood and drought management\, hydrology\, e-flows\, inter-basin wat
 er transfers\, climate change\, intelligent decision support systems\, sto
 rage projects\, etc. to address the pressing issues of sustainable water r
 esources management.\n\nMore information is available at: nhp.mowr.gov.in
LOCATION:Hyatt Regency Hotel\, Weikfield IT Park\, Pune Nagar Road\, Pune\,
  Maharashtra\, India\, Hyatt Regency Hotel\, Weikfield IT Park\, Pune Naga
 r Road\, Pune\, Maharashtra\, Maharashtra\, India
GEO:18.560264;73.912143
X-APPLE-STRUCTURED-LOCATION;VALUE=URI;X-ADDRESS=Hyatt Regency Hotel\, Weikf
 ield IT Park\, Pune Nagar Road\, Pune\, Maharashtra\, Maharashtra\, India;
 X-APPLE-RADIUS=100;X-TITLE=Hyatt Regency Hotel\, Weikfield IT Park\, Pune 
 Nagar Road\, Pune\, Maharashtra\, India:geo:18.560264,73.912143
END:VEVENT
END:VCALENDAR