BEGIN:VCALENDAR
VERSION:2.0
PRODID:-//wp-events-plugin.com//7.2.3.1//EN
BEGIN:VEVENT
UID:0-796@iwmi.org
DTSTART;TZID=Africa/Dakar:20260126T090000
DTEND;TZID=Africa/Dakar:20260127T170000
DTSTAMP:20260416T092521Z
URL:https://www.iwmi.org/events/2026-un-water-conference-high-level-prepar
 atory-meeting/
SUMMARY:2026 UN Water Conference High-level Preparatory Meeting
DESCRIPTION:The 2026 UN Water Conference high-level preparatory meeting is 
 a two-day meeting to promote the achievement of Sustainable Development Go
 al (SDG) 6 (clean water and sanitation) and to agree on preparation for th
 e conference to accelerate the implementation of SDG 6.
ATTACH;FMTTYPE=image/jpeg:https://mlpyskbirng6.i.optimole.com/cb:Jg6D.e890
 /w:950/h:441/q:mauto/g:sm/f:best/https://www.iwmi.org/wp-content/uploads/2
 025/12/2026-UN-water-conference-preparatory-meeting.png
END:VEVENT
BEGIN:VTIMEZONE
TZID:Africa/Dakar
X-LIC-LOCATION:Africa/Dakar
BEGIN:STANDARD
DTSTART:20250126T090000
TZOFFSETFROM:+0000
TZOFFSETTO:+0000
TZNAME:GMT
END:STANDARD
END:VTIMEZONE
END:VCALENDAR