BEGIN:VCALENDAR
VERSION:2.0
PRODID:-//wp-events-plugin.com//7.2.3.1//EN
BEGIN:VEVENT
UID:1-123@iwmi.org
DTSTART;VALUE=DATE:20170410
DTEND;VALUE=DATE:20170413
DTSTAMP:20170330T101256Z
URL:https://www.iwmi.org/events/2017-water-for-food-global-conference/
SUMMARY:2017 Water for Food Global Conference
DESCRIPTION:The Robert B. Daugherty Water for Food Global Institute at the 
 University of Nebraska will host the 2017 Water for Food Global Conference
 \, April 10-12 at Nebraska Innovation Campus in Lincoln\, Nebraska\, USA. 
 Join us as we explore the work being done to ensure water and food securit
 y at the interaction of local\, regional and global levels.\n\n&nbsp\;\n\n
 For more information: cba.unl.edu
LOCATION:Nebraska Innovation Campus\, 2021 Transformation Dr.\, Lincoln\, N
 ebraska 68583\, Nebraska Innovation Campus\, 2021 Transformation Dr.\, Lin
 coln\, Nebraska 68583\, Lincon\, United States
GEO:40.83227100000001;-96.69167199999998
X-APPLE-STRUCTURED-LOCATION;VALUE=URI;X-ADDRESS=Nebraska Innovation Campus\
 , 2021 Transformation Dr.\, Lincoln\, Nebraska 68583\, Lincon\, United Sta
 tes;X-APPLE-RADIUS=100;X-TITLE=Nebraska Innovation Campus\, 2021 Transform
 ation Dr.\, Lincoln\, Nebraska 68583:geo:40.83227100000001,-96.69167199999
 998
END:VEVENT
END:VCALENDAR