BEGIN:VCALENDAR
VERSION:2.0
PRODID:-//wp-events-plugin.com//7.2.3.1//EN
BEGIN:VEVENT
UID:1-85@iwmi.org
DTSTART;VALUE=DATE:20150813
DTEND;VALUE=DATE:20150815
DTSTAMP:20150814T060320Z
URL:https://www.iwmi.org/events/2015-southern-africa-regional-dialogue-on-
 agriculture/
SUMMARY:The 2015 Southern Africa Regional Dialogue on Agriculture
DESCRIPTION:The International Water Management Institute - Southern Africa 
 (IWMI-SA) and the Regional Strategic Analysis and Knowledge Support System
  for Southern Africa (ReSAKSS-SA) have organized the 2015 Southern Africa 
 Regional Dialogue on Agriculture to provide an evidence based interface be
 tween stakeholders to debate key issues in agricultural development and fo
 od security\, also as inputs in the SADC Agricultural Investment Plans.\n\
 nThis year’s theme is Regional Agricultural Trade and Agricultural Water
  Investments. We are holding this dialogue in the context of the IWMI Sout
 hern Africa Regional Strategy (2014 – 2018) and continent-wide CAADP M&a
 mp\;E\, with support from USAID.\n\nVisit the Regional Dialogue blog for m
 ore information.\n\n\n\n&nbsp\;
ATTACH;FMTTYPE=image/jpeg:https://mlpyskbirng6.i.optimole.com/cb:zhvU.e7db
 /w:800/h:247/q:mauto/g:sm/f:best/https://www.iwmi.org/wp-content/uploads/2
 015/08/2015RAD.jpg
END:VEVENT
END:VCALENDAR