BEGIN:VCALENDAR
VERSION:2.0
PRODID:-//wp-events-plugin.com//7.2.3.1//EN
BEGIN:VEVENT
UID:1-30@iwmi.org
DTSTART;VALUE=DATE:20141019
DTEND;VALUE=DATE:20141023
DTSTAMP:20141024T075157Z
URL:https://www.iwmi.org/events/2014-global-water-food-conference/
SUMMARY:2014 Global Water for Food Conference
DESCRIPTION:\n\nLINCOLN\, Neb. – Mark your calendars for the sixth annual
  global Water for Food Conference Oct. 19-22 in Seattle\, Wash.\, USA. The
  conference will be held at the Hyatt Regency Bellevue\, with an evening b
 anquet hosted at the Bill &amp\; Melinda Gates Foundation.\n\nOrganized by
  the Robert B. Daugherty Water for Food Institute at the University of Neb
 raska\, this event brings together experts from around the world to discus
 s how advances in science\, technology and policy will help the world effi
 ciently use its limited freshwater resources to increase global food secur
 ity. Each year\, the event attracts roughly 500 industry\, academic and po
 licy leaders and features a mix of plenary addresses\, panel discussions\,
  case studies\, poster competitions and more.\n\nFor more information: htt
 p://waterforfood.nebraska.edu/blog/2013/12/06/5397/\n
LOCATION:Seattle\, Washington USA\, Seattle\, Washington USA\, Washington\,
  United States
GEO:47.6062095;-122.3320708
X-APPLE-STRUCTURED-LOCATION;VALUE=URI;X-ADDRESS=Seattle\, Washington USA\, 
 Washington\, United States;X-APPLE-RADIUS=100;X-TITLE=Seattle\, Washington
  USA:geo:47.6062095,-122.3320708
END:VEVENT
END:VCALENDAR