BEGIN:VCALENDAR
VERSION:2.0
PRODID:-//wp-events-plugin.com//7.2.3.1//EN
BEGIN:VEVENT
UID:0-792@iwmi.org
DTSTART;TZID=Asia/Colombo:20251125T000000
DTEND;TZID=Asia/Colombo:20251210T000000
DTSTAMP:20251124T052455Z
URL:https://www.iwmi.org/events/16-days-of-activism-against-gender-based-v
 iolence-2/
SUMMARY:16 Days of Activism against Gender Based Violence
DESCRIPTION:This year\, the 16 days of activism focus on ending digital vio
 lence against all women and girls.
ATTACH;FMTTYPE=image/jpeg:https://mlpyskbirng6.i.optimole.com/cb:Jg6D.e890
 /w:950/h:475/q:mauto/g:sm/f:best/https://www.iwmi.org/wp-content/uploads/2
 025/11/16-days-2025.png
END:VEVENT
BEGIN:VTIMEZONE
TZID:Asia/Colombo
X-LIC-LOCATION:Asia/Colombo
BEGIN:STANDARD
DTSTART:20241125T000000
TZOFFSETFROM:+0530
TZOFFSETTO:+0530
TZNAME:+0530
END:STANDARD
END:VTIMEZONE
END:VCALENDAR