BEGIN:VCALENDAR
VERSION:2.0
PRODID:-//wp-events-plugin.com//7.2.3.1//EN
BEGIN:VEVENT
UID:0-640@iwmi.org
DTSTART:20250305T033000Z
DTEND:20250307T113000Z
DTSTAMP:20250306T054015Z
URL:https://www.iwmi.org/events/10th-international-groundwater-conference-
 2025/
SUMMARY:10th International Groundwater Conference 2025
DESCRIPTION:The international conferences in IGWC series are the meeting po
 int for groundwater professionals and researchers\, bringing together expe
 rts in the various inter-related disciplines in the field of Groundwater H
 ydrology.
ATTACH;FMTTYPE=image/jpeg:https://mlpyskbirng6.i.optimole.com/cb:Jg6D.e890
 /w:950/h:453/q:mauto/g:sm/f:best/https://www.iwmi.org/wp-content/uploads/2
 025/02/IGWC-2025-3.png
LOCATION:National Institute of Hydrology\, Jal Vigan Bhavan\, Roorkee\, Utt
 arakhand\, 247667\, India
GEO:29.854263;77.888
X-APPLE-STRUCTURED-LOCATION;VALUE=URI;X-ADDRESS=Jal Vigan Bhavan\, Roorkee\
 , Uttarakhand\, 247667\, India;X-APPLE-RADIUS=100;X-TITLE=National Institu
 te of Hydrology:geo:29.854263,77.888
END:VEVENT
END:VCALENDAR